BEGIN:VCALENDAR
VERSION:2.0
PRODID:-//Team Vetted//Tryout Calendar//EN
BEGIN:VEVENT
DTSTART:20260616T180000
DTEND:20260616T200000
SUMMARY:Coppell Cowboys 12U Select 12U Tryout
LOCATION:Coppell, TX
DESCRIPTION:12U AAA tryout\nFree\nFall 26 Select/Premier Tryouts
URL:https://youth-sports-platform-neon.vercel.app/tryouts/fea7790e-e585-4a58-b6bb-e8f4dc33d312
END:VEVENT
END:VCALENDAR