BEGIN:VCALENDAR
VERSION:2.0
PRODID:-//Team Vetted//Tryout Calendar//EN
BEGIN:VEVENT
DTSTART:20260421T130000
DTEND:20260421T150000
SUMMARY:Arlington War Eagles 14U Tryout
LOCATION:Arlington High School Varsity Field, Arlington TX
DESCRIPTION:14U AA tryout\nFee: $70.00\nAge groups: 8-12 | Spring Baseball Clinic - Part 1 of 3 days
URL:https://youth-sports-platform-neon.vercel.app/tryouts/fb97886d-4952-4798-b038-81d6b5295499
END:VEVENT
END:VCALENDAR