BEGIN:VCALENDAR
VERSION:2.0
PRODID:-//Team Vetted//Tryout Calendar//EN
BEGIN:VEVENT
DTSTART:20260421T130000
DTEND:20260421T150000
SUMMARY:Arlington A's White Sox 14U Tryout
LOCATION:Arlington High School Varsity Field, Arlington TX
DESCRIPTION:14U AAA tryout\nFee: $70.00\nAge groups: 8-12U | Spring Baseball Clinic - 6 hours total across 3 days
URL:https://youth-sports-platform-neon.vercel.app/tryouts/f9443aca-b3a1-4da3-8f17-86dabfa2768a
END:VEVENT
END:VCALENDAR