BEGIN:VCALENDAR
VERSION:2.0
PRODID:-//Team Vetted//Tryout Calendar//EN
BEGIN:VEVENT
DTSTART:20260423T130000
DTEND:20260423T150000
SUMMARY:Arlington A's Padres 14U Tryout
LOCATION:Arlington High School Varsity Field, Arlington TX
DESCRIPTION:14U Elite tryout\nFee: $70.00\nAge groups: 8-12 | Spring Baseball Clinic. 6 hours total across 3 days (April 21, 22, 23). Skills focus: fielding, throwing, hitting, base running. Scrimmage on final day.
URL:https://youth-sports-platform-neon.vercel.app/tryouts/f1c59574-9d9e-4821-93c2-b9ea61339087
END:VEVENT
END:VCALENDAR