BEGIN:VCALENDAR
VERSION:2.0
PRODID:-//Team Vetted//Tryout Calendar//EN
BEGIN:VEVENT
DTSTART:20260423T130000
DTEND:20260423T150000
SUMMARY:Arlington Twins 10U Tryout
LOCATION:Arlington High School Varsity Field, Arlington TX
DESCRIPTION:10U Elite tryout\nFee: $70.00\nAge groups: 8-12 | Spring Baseball Clinic - concludes with scrimmage
URL:https://youth-sports-platform-neon.vercel.app/tryouts/f14b6f33-2c07-4a71-a0c3-bf862cdaeb7e
END:VEVENT
END:VCALENDAR