BEGIN:VCALENDAR
VERSION:2.0
PRODID:-//Team Vetted//Tryout Calendar//EN
BEGIN:VEVENT
DTSTART:20260517T180000
DTEND:20260517T200000
SUMMARY:Texas Toros 11U Tryout
LOCATION:Range Elementary, 4060 Emerald Dr, Mesquite, TX 75150, Mesquite TX
DESCRIPTION:11U Unknown tryout\nFree\nExperienced players required. Open fall tryouts.
URL:https://youth-sports-platform-neon.vercel.app/tryouts/f079724d-7d45-43d6-8165-9bfa6e54067a
END:VEVENT
END:VCALENDAR