BEGIN:VCALENDAR
VERSION:2.0
PRODID:-//Team Vetted//Tryout Calendar//EN
BEGIN:VEVENT
DTSTART:20260421T130000
DTEND:20260421T150000
SUMMARY:Arlington A's Padres 14U Tryout
LOCATION:Arlington High School Varsity Field, Arlington TX
DESCRIPTION:14U Elite tryout\nFee: $70.00\nAge groups: 8-12 | Spring Baseball Clinic. 6 hours total across 3 days (April 21, 22, 23). Skills focus: fielding, throwing, hitting, base running. Scrimmage on final day.
URL:https://youth-sports-platform-neon.vercel.app/tryouts/ea939a57-630a-4da4-b982-04c68c470732
END:VEVENT
END:VCALENDAR