BEGIN:VCALENDAR
VERSION:2.0
PRODID:-//Team Vetted//Tryout Calendar//EN
BEGIN:VEVENT
DTSTART:20260421T130000
DTEND:20260421T150000
SUMMARY:Arlington Prime 14u - Trammell 14U Tryout
LOCATION:Arlington High School Varsity Field, Arlington TX
DESCRIPTION:14U AA tryout\nFee: $70.00\nAge groups: 8-12 | Spring Baseball Clinic - 6 hours total across 3 days
URL:https://youth-sports-platform-neon.vercel.app/tryouts/e45cf244-723a-4d0a-b21c-d9c0630c681f
END:VEVENT
END:VCALENDAR