BEGIN:VCALENDAR
VERSION:2.0
PRODID:-//Team Vetted//Tryout Calendar//EN
BEGIN:VEVENT
DTSTART:20260616T180000
DTEND:20260616T200000
SUMMARY:Coppell Cowboys-Marcom 13U Tryout
LOCATION:Coppell, TX
DESCRIPTION:13U AAA tryout\nFree\nFall 26 Select/Premier Tryouts (June 15-17)
URL:https://youth-sports-platform-neon.vercel.app/tryouts/e29abee8-f57e-4f5e-994f-a0cde58610b7
END:VEVENT
END:VCALENDAR