BEGIN:VCALENDAR
VERSION:2.0
PRODID:-//Team Vetted//Tryout Calendar//EN
BEGIN:VEVENT
DTSTART:20260421T130000
DTEND:20260421T150000
SUMMARY:CAB Arlington 10U Tryout
LOCATION:Arlington High School Varsity Field, Arlington TX
DESCRIPTION:10U AA tryout\nFee: $70.00\nAge groups: 8-12 | Spring Baseball Clinic - Day 1 of 3
URL:https://youth-sports-platform-neon.vercel.app/tryouts/e131f3fd-c93f-4040-9a38-a46e4583c413
END:VEVENT
END:VCALENDAR