BEGIN:VCALENDAR
VERSION:2.0
PRODID:-//Team Vetted//Tryout Calendar//EN
BEGIN:VEVENT
DTSTART:20260423T130000
DTEND:20260423T150000
SUMMARY:Arlington Prime 13U Trammell 13U Tryout
LOCATION:Arlington High School Varsity Field, Arlington TX
DESCRIPTION:13U AA tryout\nFee: $70.00\nAge groups: 8-12 | Spring Baseball Clinic - Day 3 of 3, concludes with scrimmage
URL:https://youth-sports-platform-neon.vercel.app/tryouts/dec85fe2-f84e-47bb-8142-25f6760715d6
END:VEVENT
END:VCALENDAR