BEGIN:VCALENDAR
VERSION:2.0
PRODID:-//Team Vetted//Tryout Calendar//EN
BEGIN:VEVENT
DTSTART:20260617T180000
DTEND:20260617T200000
SUMMARY:Coppell Cowboys - Porter 11U Tryout
LOCATION:Coppell, TX
DESCRIPTION:11U AA tryout\nFree\nFall 26 Select/Premier Tryouts
URL:https://youth-sports-platform-neon.vercel.app/tryouts/dd119f12-3195-4e77-a356-7047330e45d1
END:VEVENT
END:VCALENDAR