BEGIN:VCALENDAR
VERSION:2.0
PRODID:-//Team Vetted//Tryout Calendar//EN
BEGIN:VEVENT
DTSTART:20261109T180000
DTEND:20261109T200000
SUMMARY:DFW Twins 9U Tryout
LOCATION:Aledo, TX
DESCRIPTION:9U AA tryout\nFree
URL:https://youth-sports-platform-neon.vercel.app/tryouts/dbd39851-278c-4de0-b477-2cf964a79233
END:VEVENT
END:VCALENDAR