BEGIN:VCALENDAR
VERSION:2.0
PRODID:-//Team Vetted//Tryout Calendar//EN
BEGIN:VEVENT
DTSTART:20261115T113000
DTEND:20261115T200000
SUMMARY:Wildcatters (North TX) 13U Tryout
LOCATION:Player Development Center, Bedford, TX TX
DESCRIPTION:13U Unknown tryout\nFree
URL:https://youth-sports-platform-neon.vercel.app/tryouts/da98e133-124a-4699-9a0e-a0a8a2e9bc84
END:VEVENT
END:VCALENDAR