BEGIN:VCALENDAR
VERSION:2.0
PRODID:-//Team Vetted//Tryout Calendar//EN
BEGIN:VEVENT
DTSTART:20260422T180000
DTEND:20260422T200000
SUMMARY:Denton Texans 16U Tryout
LOCATION:Denton, TX
DESCRIPTION:16U Unknown tryout\nFree\nFilling final roster spots for late spring/summer team.
URL:https://youth-sports-platform-neon.vercel.app/tryouts/d9d1fecf-4fb7-4442-9e10-df9afeb1a19b
END:VEVENT
END:VCALENDAR