BEGIN:VCALENDAR
VERSION:2.0
PRODID:-//Team Vetted//Tryout Calendar//EN
BEGIN:VEVENT
DTSTART:20260423T130000
DTEND:20260423T150000
SUMMARY:Arlington Cubs 9U Tryout
LOCATION:Arlington High School Varsity Field, Arlington TX
DESCRIPTION:9U AA tryout\nFee: $70.00\nAge groups: 8-12 | Spring Baseball Clinic - Part 3 of 3 days. Concludes with fun scrimmage. Total 6 hours across all 3 days.
URL:https://youth-sports-platform-neon.vercel.app/tryouts/d9aa3347-6d0a-475f-8c8c-50be46074676
END:VEVENT
END:VCALENDAR