BEGIN:VCALENDAR
VERSION:2.0
PRODID:-//Team Vetted//Tryout Calendar//EN
BEGIN:VEVENT
DTSTART:20260422T140000
DTEND:20260422T160000
SUMMARY:CAB Arlington 11U Tryout
LOCATION:Arlington High School Varsity Field, Arlington TX
DESCRIPTION:11U AA tryout\nFee: $70.00\nAge groups: 8-12 | Spring Baseball Clinic - Part 2 of 3 days
URL:https://youth-sports-platform-neon.vercel.app/tryouts/d7170913-8757-498e-a5cf-d368d962a236
END:VEVENT
END:VCALENDAR