BEGIN:VCALENDAR
VERSION:2.0
PRODID:-//Team Vetted//Tryout Calendar//EN
BEGIN:VEVENT
DTSTART:20260717T183000
DTEND:20260717T200000
SUMMARY:Coppell Cowboys - Jones 8U Tryout
LOCATION:Wagon Wheel Park 6, Coppell TX
DESCRIPTION:8U AA tryout\nFree
URL:https://youth-sports-platform-neon.vercel.app/tryouts/d48f0fdf-0c2d-4d3d-abac-ff386aae7130
END:VEVENT
END:VCALENDAR