BEGIN:VCALENDAR
VERSION:2.0
PRODID:-//Team Vetted//Tryout Calendar//EN
BEGIN:VEVENT
DTSTART:20260422T140000
DTEND:20260422T160000
SUMMARY:Arlington Twins 10U Tryout
LOCATION:Arlington High School Varsity Field, Arlington TX
DESCRIPTION:10U Elite tryout\nFee: $70.00\nAge groups: 8-12 | Spring Baseball Clinic - 6 hours total across 3 days
URL:https://youth-sports-platform-neon.vercel.app/tryouts/d2c6fd81-0560-4e64-9220-dc6083aad8c3
END:VEVENT
END:VCALENDAR