BEGIN:VCALENDAR
VERSION:2.0
PRODID:-//Team Vetted//Tryout Calendar//EN
BEGIN:VEVENT
DTSTART:20260422T140000
DTEND:20260422T160000
SUMMARY:Arlington A's White Sox 14U Tryout
LOCATION:Arlington High School Varsity Field, Arlington TX
DESCRIPTION:14U AAA tryout\nFee: $70.00\nAge groups: 8-12U | Spring Baseball Clinic - 6 hours total across 3 days
URL:https://youth-sports-platform-neon.vercel.app/tryouts/cf5a5efa-5d61-44a1-b4a2-bb117bacde0a
END:VEVENT
END:VCALENDAR