BEGIN:VCALENDAR
VERSION:2.0
PRODID:-//Team Vetted//Tryout Calendar//EN
BEGIN:VEVENT
DTSTART:20260422T140000
DTEND:20260422T160000
SUMMARY:Arlington A's Padres 14U Tryout
LOCATION:Arlington High School Varsity Field, Arlington TX
DESCRIPTION:14U Elite tryout\nFee: $70.00\nAge groups: 8-12 | Spring Baseball Clinic. 6 hours total across 3 days (April 21, 22, 23). Skills focus: fielding, throwing, hitting, base running. Scrimmage on final day.
URL:https://youth-sports-platform-neon.vercel.app/tryouts/ce9cfccd-7a8f-4f7b-b358-090416008912
END:VEVENT
END:VCALENDAR