BEGIN:VCALENDAR
VERSION:2.0
PRODID:-//Team Vetted//Tryout Calendar//EN
BEGIN:VEVENT
DTSTART:20260423T130000
DTEND:20260423T150000
SUMMARY:CAB Arlington 14U Tryout
LOCATION:Arlington High School Varsity Field, Arlington TX
DESCRIPTION:14U AA tryout\nFee: $70.00\nAge groups: 8-12 | Spring Baseball Clinic - part of 3-day clinic (April 21, 22, & 23). Concludes with scrimmage.
URL:https://youth-sports-platform-neon.vercel.app/tryouts/c57821d7-349c-4656-a1fb-89e0244894ac
END:VEVENT
END:VCALENDAR