BEGIN:VCALENDAR
VERSION:2.0
PRODID:-//Team Vetted//Tryout Calendar//EN
BEGIN:VEVENT
DTSTART:20260521T180000
DTEND:20260521T200000
SUMMARY:Tryout for fall of 2026 13U Baseaball. 13U Tryout
LOCATION:Coppell, TX
DESCRIPTION:13U Unknown tryout\nFree
URL:https://youth-sports-platform-neon.vercel.app/tryouts/c51b97cc-f88f-4e42-8aee-3fa627e3eef0
END:VEVENT
END:VCALENDAR