BEGIN:VCALENDAR
VERSION:2.0
PRODID:-//Team Vetted//Tryout Calendar//EN
BEGIN:VEVENT
DTSTART:20260615T180000
DTEND:20260615T200000
SUMMARY:Coppell Cowboys - Porter 11U Tryout
LOCATION:Coppell, TX
DESCRIPTION:11U AA tryout\nFree\nFall 26 Select/Premier Tryouts
URL:https://youth-sports-platform-neon.vercel.app/tryouts/c30da2f8-642f-47da-af22-e55f1f5f3461
END:VEVENT
END:VCALENDAR