BEGIN:VCALENDAR
VERSION:2.0
PRODID:-//Team Vetted//Tryout Calendar//EN
BEGIN:VEVENT
DTSTART:20260615T180000
DTEND:20260615T200000
SUMMARY:Coppell Cowboys-Montgomery 7U Tryout
LOCATION:<UNKNOWN>, Coppell TX
DESCRIPTION:7U Rec tryout\nFree\nFall 26 Select/Premier Tryouts
URL:https://youth-sports-platform-neon.vercel.app/tryouts/be7e999f-0f97-4205-89b0-d863f158158c
END:VEVENT
END:VCALENDAR