BEGIN:VCALENDAR
VERSION:2.0
PRODID:-//Team Vetted//Tryout Calendar//EN
BEGIN:VEVENT
DTSTART:20260617T180000
DTEND:20260617T200000
SUMMARY:Coppell Cowboys - Taves 11U Tryout
LOCATION:Coppell, TX
DESCRIPTION:11U AA tryout\nFree\nFall 26 Select/Premier Tryouts (3-day event June 15-17)
URL:https://youth-sports-platform-neon.vercel.app/tryouts/bbd6786b-e373-45b9-8299-5621dda0d45d
END:VEVENT
END:VCALENDAR