BEGIN:VCALENDAR
VERSION:2.0
PRODID:-//Team Vetted//Tryout Calendar//EN
BEGIN:VEVENT
DTSTART:20260717T183000
DTEND:20260717T200000
SUMMARY:Coppell Cowboys-Marcom 13U Tryout
LOCATION:Wagon Wheel Park 6, Coppell TX
DESCRIPTION:13U AAA tryout\nFree
URL:https://youth-sports-platform-neon.vercel.app/tryouts/bb656662-a937-41bc-b399-9e4c1694f922
END:VEVENT
END:VCALENDAR