BEGIN:VCALENDAR
VERSION:2.0
PRODID:-//Team Vetted//Tryout Calendar//EN
BEGIN:VEVENT
DTSTART:20260616T180000
DTEND:20260616T200000
SUMMARY:Coppell Cowboys - May 9U Tryout
LOCATION:Coppell, TX
DESCRIPTION:9U AA tryout\nFree\nFall 26 Select/Premier Tryouts
URL:https://youth-sports-platform-neon.vercel.app/tryouts/b8fbdb84-1f9d-4b28-930c-e5e8517c8f46
END:VEVENT
END:VCALENDAR