BEGIN:VCALENDAR
VERSION:2.0
PRODID:-//Team Vetted//Tryout Calendar//EN
BEGIN:VEVENT
DTSTART:20260422T140000
DTEND:20260422T160000
SUMMARY:Arlington Cubs 9U Tryout
LOCATION:Arlington High School Varsity Field, Arlington TX
DESCRIPTION:9U AA tryout\nFee: $70.00\nAge groups: 8-12 | Spring Baseball Clinic - Part 2 of 3 days. Work with varsity players on fielding, throwing, hitting, and base running.
URL:https://youth-sports-platform-neon.vercel.app/tryouts/b83586fa-feca-4a86-bb3a-c1805df0ece5
END:VEVENT
END:VCALENDAR