BEGIN:VCALENDAR
VERSION:2.0
PRODID:-//Team Vetted//Tryout Calendar//EN
BEGIN:VEVENT
DTSTART:20261115T090000
DTEND:20261115T200000
SUMMARY:Wildcatters Baseball 11U Tryout
LOCATION:Player Development Center, Bedford, TX TX
DESCRIPTION:11U Unknown tryout\nFree
URL:https://youth-sports-platform-neon.vercel.app/tryouts/b7057501-2b74-4f1e-b9c2-e87b2f954a38
END:VEVENT
END:VCALENDAR