BEGIN:VCALENDAR
VERSION:2.0
PRODID:-//Team Vetted//Tryout Calendar//EN
BEGIN:VEVENT
DTSTART:20260616T180000
DTEND:20260616T200000
SUMMARY:Coppell Cowboys - Jones 8U Tryout
LOCATION:Coppell, TX
DESCRIPTION:8U AA tryout\nFree\nFall 26 Select/Premier Tryouts
URL:https://youth-sports-platform-neon.vercel.app/tryouts/b5eeeb11-ae0c-4e19-9e67-d552c244fe68
END:VEVENT
END:VCALENDAR