BEGIN:VCALENDAR
VERSION:2.0
PRODID:-//Team Vetted//Tryout Calendar//EN
BEGIN:VEVENT
DTSTART:20260424T180000
DTEND:20260424T200000
SUMMARY:Furia Baseball 17U Tryout
LOCATION:Oak Grove Baseball Fields, Field H, 2520 Oak Grove Loop S, Grapevine, TX TX
DESCRIPTION:17U Elite tryout\nFree\nAge groups: 15U-17U | 1 hr 30 min duration
URL:https://youth-sports-platform-neon.vercel.app/tryouts/b5482d64-15f2-4db8-82d0-04eb9a6ec3ec
END:VEVENT
END:VCALENDAR