BEGIN:VCALENDAR
VERSION:2.0
PRODID:-//Team Vetted//Tryout Calendar//EN
BEGIN:VEVENT
DTSTART:20260423T130000
DTEND:20260423T150000
SUMMARY:CAB Arlington 11U Tryout
LOCATION:Arlington High School Varsity Field, Arlington TX
DESCRIPTION:11U AA tryout\nFee: $70.00\nAge groups: 8-12 | Spring Baseball Clinic - Part 3 of 3 days. Concludes with scrimmage.
URL:https://youth-sports-platform-neon.vercel.app/tryouts/ab084167-33ae-4ec7-b9e2-eaf076f50b7e
END:VEVENT
END:VCALENDAR