BEGIN:VCALENDAR
VERSION:2.0
PRODID:-//Team Vetted//Tryout Calendar//EN
BEGIN:VEVENT
DTSTART:20260717T183000
DTEND:20260717T200000
SUMMARY:Coppell Cowboys - Porter 11U Tryout
LOCATION:Wagon Wheel Park 6, Coppell TX
DESCRIPTION:11U AA tryout\nFree
URL:https://youth-sports-platform-neon.vercel.app/tryouts/a8c74e62-7852-4845-9155-0662371f7db5
END:VEVENT
END:VCALENDAR