BEGIN:VCALENDAR
VERSION:2.0
PRODID:-//Team Vetted//Tryout Calendar//EN
BEGIN:VEVENT
DTSTART:20260517T180000
DTEND:20260517T200000
SUMMARY:Tryout for fall of 2026 13U Baseaball. 13U Tryout
LOCATION:Coppell, TX
DESCRIPTION:13U Unknown tryout\nFree
URL:https://youth-sports-platform-neon.vercel.app/tryouts/a0293016-a8ec-4d93-aef2-243e888c8a6a
END:VEVENT
END:VCALENDAR