BEGIN:VCALENDAR
VERSION:2.0
PRODID:-//Team Vetted//Tryout Calendar//EN
BEGIN:VEVENT
DTSTART:20260422T140000
DTEND:20260422T160000
SUMMARY:Arlington War Eagles 14U Tryout
LOCATION:Arlington High School Varsity Field, Arlington TX
DESCRIPTION:14U AA tryout\nFee: $70.00\nAge groups: 8-12 | Spring Baseball Clinic - Part 2 of 3 days
URL:https://youth-sports-platform-neon.vercel.app/tryouts/9cc5db04-1b1a-46d9-959a-b47941a0213b
END:VEVENT
END:VCALENDAR