BEGIN:VCALENDAR
VERSION:2.0
PRODID:-//Team Vetted//Tryout Calendar//EN
BEGIN:VEVENT
DTSTART:20260617T180000
DTEND:20260617T200000
SUMMARY:Coppell Cowboys 10U Walsh 10U Tryout
LOCATION:Coppell, TX
DESCRIPTION:10U AA tryout\nFree\nFall 26 Select/Premier Tryouts
URL:https://youth-sports-platform-neon.vercel.app/tryouts/9c70f1da-2312-4a17-953f-c6743a104bb4
END:VEVENT
END:VCALENDAR