BEGIN:VCALENDAR
VERSION:2.0
PRODID:-//Team Vetted//Tryout Calendar//EN
BEGIN:VEVENT
DTSTART:20260617T180000
DTEND:20260617T200000
SUMMARY:Coppell Cowboys - Traylor 12U Tryout
LOCATION:Coppell, TX
DESCRIPTION:12U AA tryout\nFree\nFall 26 Select/Premier Tryouts
URL:https://youth-sports-platform-neon.vercel.app/tryouts/95f3acc0-691a-4bb3-822c-0542eec193d3
END:VEVENT
END:VCALENDAR