BEGIN:VCALENDAR
VERSION:2.0
PRODID:-//Team Vetted//Tryout Calendar//EN
BEGIN:VEVENT
DTSTART:20260422T140000
DTEND:20260422T160000
SUMMARY:CAB Arlington 10U Tryout
LOCATION:Arlington High School Varsity Field, Arlington TX
DESCRIPTION:10U AA tryout\nFee: $70.00\nAge groups: 8-12 | Spring Baseball Clinic - Day 2 of 3
URL:https://youth-sports-platform-neon.vercel.app/tryouts/9559bb5b-4c92-46f4-b6b5-d1d02107d5ed
END:VEVENT
END:VCALENDAR