BEGIN:VCALENDAR
VERSION:2.0
PRODID:-//Team Vetted//Tryout Calendar//EN
BEGIN:VEVENT
DTSTART:20260617T180000
DTEND:20260617T200000
SUMMARY:Coppell Cowboys-Montgomery 7U Tryout
LOCATION:Coppell, TX
DESCRIPTION:7U Rec tryout\nFree\nFall 26 Select/Premier Tryouts
URL:https://youth-sports-platform-neon.vercel.app/tryouts/921fc77f-bd75-4604-8670-0214a74d69b4
END:VEVENT
END:VCALENDAR