BEGIN:VCALENDAR
VERSION:2.0
PRODID:-//Team Vetted//Tryout Calendar//EN
BEGIN:VEVENT
DTSTART:20260616T180000
DTEND:20260616T200000
SUMMARY:Coppell Cowboys - Taves 11U Tryout
LOCATION:Coppell, TX
DESCRIPTION:11U AA tryout\nFree\nFall 26 Select/Premier Tryouts (3-day event June 15-17)
URL:https://youth-sports-platform-neon.vercel.app/tryouts/86bffc99-e8cc-4a8f-9ce5-6b243101a9a0
END:VEVENT
END:VCALENDAR