BEGIN:VCALENDAR
VERSION:2.0
PRODID:-//Team Vetted//Tryout Calendar//EN
BEGIN:VEVENT
DTSTART:20260423T130000
DTEND:20260423T150000
SUMMARY:CAB Arlington 10U Tryout
LOCATION:Arlington High School Varsity Field, Arlington TX
DESCRIPTION:10U AA tryout\nFee: $70.00\nAge groups: 8-12 | Spring Baseball Clinic - Day 3 of 3, concludes with scrimmage
URL:https://youth-sports-platform-neon.vercel.app/tryouts/84c1f3e8-37c0-48c0-806e-387000cdcd6a
END:VEVENT
END:VCALENDAR