BEGIN:VCALENDAR
VERSION:2.0
PRODID:-//Team Vetted//Tryout Calendar//EN
BEGIN:VEVENT
DTSTART:20261115T113000
DTEND:20261115T200000
SUMMARY:Wildcatters (North TX) High School High School Tryout
LOCATION:Player Development Center, Bedford, TX TX
DESCRIPTION:High School Unknown tryout\nFree
URL:https://youth-sports-platform-neon.vercel.app/tryouts/84bec257-eb44-4e01-9c38-a6510be1b40c
END:VEVENT
END:VCALENDAR