BEGIN:VCALENDAR
VERSION:2.0
PRODID:-//Team Vetted//Tryout Calendar//EN
BEGIN:VEVENT
DTSTART:20261106T180000
DTEND:20261106T200000
SUMMARY:Coppell Cowboys - Roman 10U Tryout
LOCATION:<UNKNOWN>, Coppell TX
DESCRIPTION:10U AA tryout\nFree
URL:https://youth-sports-platform-neon.vercel.app/tryouts/8171579d-64a9-40d3-8cb1-1ee27ea38dd4
END:VEVENT
END:VCALENDAR