BEGIN:VCALENDAR
VERSION:2.0
PRODID:-//Team Vetted//Tryout Calendar//EN
BEGIN:VEVENT
DTSTART:20260425T130000
DTEND:20260425T200000
SUMMARY:Osos Select 6U Tryout
LOCATION:Irving, TX
DESCRIPTION:6U Unknown tryout\nFree\nPost features Texas and Mexican flags suggesting the organization has cultural ties to both Texas and Mexico. Mascot is a bear (Osos means bears in Spanish). Tagline says 'By popular demand' suggesting this is a repeat or expanded tryout event. Jersey number 10 visible on mascot.
URL:https://youth-sports-platform-neon.vercel.app/tryouts/806f4e79-f33f-490a-8a5a-9605e9f2904a
END:VEVENT
END:VCALENDAR