BEGIN:VCALENDAR
VERSION:2.0
PRODID:-//Team Vetted//Tryout Calendar//EN
BEGIN:VEVENT
DTSTART:20260616T180000
DTEND:20260616T200000
SUMMARY:Coppell Cowboys 10U Walsh 10U Tryout
LOCATION:Coppell, TX
DESCRIPTION:10U AA tryout\nFree\nFall 26 Select/Premier Tryouts
URL:https://youth-sports-platform-neon.vercel.app/tryouts/7da2819e-d9b6-4464-ac1f-4461869967ff
END:VEVENT
END:VCALENDAR