BEGIN:VCALENDAR
VERSION:2.0
PRODID:-//Team Vetted//Tryout Calendar//EN
BEGIN:VEVENT
DTSTART:20261110T190000
DTEND:20261110T200000
SUMMARY:Wildcatters (North TX - Allen) 11U Tryout
LOCATION:Southfork Sports Complex, Parker, TX TX
DESCRIPTION:11U Unknown tryout\nFree
URL:https://youth-sports-platform-neon.vercel.app/tryouts/76521806-143f-4238-8524-613fcc32950b
END:VEVENT
END:VCALENDAR