BEGIN:VCALENDAR
VERSION:2.0
PRODID:-//Team Vetted//Tryout Calendar//EN
BEGIN:VEVENT
DTSTART:20260505T183000
DTEND:20260505T200000
SUMMARY:Coppell Cowboys - May 9U Tryout
LOCATION:Wagon Wheel Park 6, Coppell TX
DESCRIPTION:9U AA tryout\nFree
URL:https://youth-sports-platform-neon.vercel.app/tryouts/750b443a-774c-4b05-9bc2-c80022dbbf30
END:VEVENT
END:VCALENDAR