BEGIN:VCALENDAR
VERSION:2.0
PRODID:-//Team Vetted//Tryout Calendar//EN
BEGIN:VEVENT
DTSTART:20260616T180000
DTEND:20260616T200000
SUMMARY:Coppell Cowboys-Montgomery 7U Tryout
LOCATION:Coppell, TX
DESCRIPTION:7U Rec tryout\nFree\nFall 26 Select/Premier Tryouts
URL:https://youth-sports-platform-neon.vercel.app/tryouts/74baa178-9f59-4732-99fa-1a29990ca036
END:VEVENT
END:VCALENDAR