BEGIN:VCALENDAR
VERSION:2.0
PRODID:-//Team Vetted//Tryout Calendar//EN
BEGIN:VEVENT
DTSTART:20260617T180000
DTEND:20260617T200000
SUMMARY:Coppell Cowboys - Jones 8U Tryout
LOCATION:Coppell, TX
DESCRIPTION:8U AA tryout\nFree\nFall 26 Select/Premier Tryouts
URL:https://youth-sports-platform-neon.vercel.app/tryouts/6eecff4d-a7ef-402e-9156-98b52e8c10a0
END:VEVENT
END:VCALENDAR